BEGIN:VCALENDAR
VERSION:2.0
PRODID:-//Plone.org//NONSGML plone.app.event//EN
X-WR-TIMEZONE:US/Central
BEGIN:VEVENT
SUMMARY:Watercolor Cookie Decorating w/ Stacked
DTSTART;TZID=US/Central:20250722T180000
DTEND;TZID=US/Central:20250722T193000
DTSTAMP:20260424T050338Z
UID:b69a584d218c4458a71a703551797326@saas_stack_varnish:6080
CONTACT:Mrs. Jackie\, 409-962-6281\, groveslibrary5600@gmail.com
CREATED:20250523T183131Z
DESCRIPTION:Learn to decorate your own cookie for free! Appropriate for al
 l ages.
LAST-MODIFIED:20250523T183143Z
LOCATION:Library Meeting Room
URL:https://www.groveslibrary.org/lib-cal/watercolor-cookie-decorating-w-s
 tacked
END:VEVENT
BEGIN:VTIMEZONE
TZID:US/Central
X-LIC-LOCATION:US/Central
BEGIN:DAYLIGHT
DTSTART:20250309T030000
TZNAME:CDT
TZOFFSETFROM:-0600
TZOFFSETTO:-0500
END:DAYLIGHT
END:VTIMEZONE
END:VCALENDAR
