BEGIN:VCALENDAR
VERSION:2.0
PRODID:-//Plone.org//NONSGML plone.app.event//EN
X-WR-TIMEZONE:US/Central
BEGIN:VEVENT
SUMMARY:Summer Reading 2026 Kick-Off Party
DTSTART;TZID=US/Central:20260526T150000
DTEND;TZID=US/Central:20260526T190000
DTSTAMP:20260421T115430Z
UID:cb4551c1f6424df89ee518bd6dbb0e44@saas_stack_varnish:6080
CONTACT:Library Staff\, 409-962-6281\, groveslibrary5600@gmail.com\, https
 ://www.facebook.com/events/1612780516620889/?acontext=%7B%22event_action_h
 istory%22%3A[%7B%22mechanism%22%3A%22calendar_tab_event%22%2C%22surface%22
 %3A%22bookmark_calendar%22%7D]%2C%22ref_notif_type%22%3Anull%7D
CREATED:20260420T201143Z
DESCRIPTION:DIG INTO SUMMER READING!
LAST-MODIFIED:20260420T201157Z
LOCATION:Library Meeting Room
URL:https://www.groveslibrary.org/lib-cal/summer-reading-2026-kick-off-par
 ty
END:VEVENT
BEGIN:VTIMEZONE
TZID:US/Central
X-LIC-LOCATION:US/Central
BEGIN:DAYLIGHT
DTSTART:20260308T030000
TZNAME:CDT
TZOFFSETFROM:-0600
TZOFFSETTO:-0500
END:DAYLIGHT
END:VTIMEZONE
END:VCALENDAR
