BEGIN:VCALENDAR
VERSION:2.0
PRODID:-//Plone.org//NONSGML plone.app.event//EN
X-WR-TIMEZONE:US/Central
BEGIN:VEVENT
SUMMARY:Story Time with Mrs. Teresa Whiteside (a puppet show)!
DTSTART;TZID=US/Central:20250623T100000
DTEND;TZID=US/Central:20250623T110000
DTSTAMP:20260424T012050Z
UID:09538f30de484a70a66aa5509154391b@saas_stack_varnish:6080
CONTACT:Mrs. Jackie\, 409-962-6281\, groveslibrary5600@gmail.com
CREATED:20250523T154147Z
DESCRIPTION:Join us on a Story Time adventure every Monday at 10 a.m. duri
 ng our Summer Reading program! We read a story and complete a craft to tak
 e home. For ages 0-6 years old.
LAST-MODIFIED:20250523T154236Z
LOCATION:Library Meeting Room
URL:https://www.groveslibrary.org/lib-cal/story-time-with-mrs-teresa-white
 side-a-puppet-show
END:VEVENT
BEGIN:VTIMEZONE
TZID:US/Central
X-LIC-LOCATION:US/Central
BEGIN:DAYLIGHT
DTSTART:20250309T030000
TZNAME:CDT
TZOFFSETFROM:-0600
TZOFFSETTO:-0500
END:DAYLIGHT
END:VTIMEZONE
END:VCALENDAR
