BEGIN:VCALENDAR
VERSION:2.0
PRODID:-//Plone.org//NONSGML plone.app.event//EN
X-WR-TIMEZONE:US/Central
BEGIN:VEVENT
SUMMARY:Story Time with Mr. Thomas Schroeder (Symphony of SETX)!
DTSTART;TZID=US/Central:20250630T100000
DTEND;TZID=US/Central:20250630T110000
DTSTAMP:20260424T050123Z
UID:0b3faefa090d455fa34211836e6197d2@saas_stack_varnish:6080
CONTACT:Mrs. Jackie\, 409-962-6281\, groveslibrary5600@gmail.com
CREATED:20250523T154408Z
DESCRIPTION:Join us on a Story Time adventure every Monday at 10 a.m. duri
 ng our Summer Reading program! We read a story and complete a craft to tak
 e home. For ages 0-6 years old.
LAST-MODIFIED:20250523T154442Z
LOCATION:Library Meeting Room
URL:https://www.groveslibrary.org/lib-cal/story-time-with-mr-thomas-schroe
 der-symphony-of-setx
END:VEVENT
BEGIN:VTIMEZONE
TZID:US/Central
X-LIC-LOCATION:US/Central
BEGIN:DAYLIGHT
DTSTART:20250309T030000
TZNAME:CDT
TZOFFSETFROM:-0600
TZOFFSETTO:-0500
END:DAYLIGHT
END:VTIMEZONE
END:VCALENDAR
