BEGIN:VCALENDAR
VERSION:2.0
PRODID:-//Plone.org//NONSGML plone.app.event//EN
X-WR-TIMEZONE:US/Central
BEGIN:VEVENT
SUMMARY:St. Patrick's Day Puzzle Tournament
DTSTART;TZID=US/Central:20260317T180000
DTEND;TZID=US/Central:20260317T193000
DTSTAMP:20260423T100859Z
UID:638541455aef47189c2e72fcc62dc456@saas_stack_varnish:6080
CONTACT:Library Staff\, 409-962-6281\, groveslibrary5600@gmail.com\, https
 ://www.facebook.com/events/1405628487495653?acontext=%7B%22event_action_hi
 story%22%3A[%7B%22mechanism%22%3A%22attachment%22%2C%22surface%22%3A%22new
 sfeed%22%7D]%2C%22ref_notif_type%22%3Anull%7D
CREATED:20260304T165444Z
DESCRIPTION:Try your luck with a puzzle tournament!
LAST-MODIFIED:20260304T170050Z
LOCATION:Library Meeting Room
URL:https://www.groveslibrary.org/lib-cal/st-patricks-day-puzzle-tournamen
 t
END:VEVENT
BEGIN:VTIMEZONE
TZID:US/Central
X-LIC-LOCATION:US/Central
BEGIN:DAYLIGHT
DTSTART:20260308T030000
TZNAME:CDT
TZOFFSETFROM:-0600
TZOFFSETTO:-0500
END:DAYLIGHT
END:VTIMEZONE
END:VCALENDAR
