BEGIN:VCALENDAR
VERSION:2.0
PRODID:-//Plone.org//NONSGML plone.app.event//EN
X-WR-TIMEZONE:US/Central
BEGIN:VEVENT
SUMMARY:Reading Logs #3 Due
DTSTART;VALUE=DATE:20250620
DTEND;VALUE=DATE:20250621
DTSTAMP:20260423T231019Z
UID:eec2e51350b3475584d95542c5ae36e9@saas_stack_varnish:6080
ATTENDEE;CN="All summer reader participants";ROLE=REQ-PARTICIPANT:All summ
 er reader participants
CONTACT:Library Staff\, 409-962-6281\, groveslibrary5600@gmail.com\, https
 ://www.facebook.com/grovespubliclibrary/events
CREATED:20250410T204341Z
DESCRIPTION:ATTENTION SUMMER READERS!
LAST-MODIFIED:20250523T175503Z
LOCATION:Library circulation desk
URL:https://www.groveslibrary.org/lib-cal/reading-logs-3-due
END:VEVENT
END:VCALENDAR
