BEGIN:VCALENDAR
VERSION:2.0
PRODID:-//Plone.org//NONSGML plone.app.event//EN
X-WR-TIMEZONE:US/Central
BEGIN:VEVENT
SUMMARY:Noon Year's Eve Countdown
DTSTART;TZID=US/Central:20261231T110000
DTEND;TZID=US/Central:20261231T120000
DTSTAMP:20260423T231140Z
UID:d30427ee61eb4363812df9ca09e98a92@saas_stack_varnish:6080
CONTACT:Library Staff\, 409-962-6281\, groveslibrary5600@gmail.com\, https
 ://www.facebook.com/events/2233198637202643?acontext=%7B%22event_action_hi
 story%22%3A[%7B%22extra_data%22%3A%22%22%2C%22mechanism%22%3A%22left_rail%
 22%2C%22surface%22%3A%22bookmark%22%7D%2C%7B%22extra_data%22%3A%22%22%2C%2
 2mechanism%22%3A%22calendar_tab_event%22%2C%22surface%22%3A%22bookmark_cal
 endar%22%7D]%2C%22ref_notif_type%22%3Anull%7D
CREATED:20251218T212724Z
LAST-MODIFIED:20260226T181230Z
LOCATION:Library Meeting Room
URL:https://www.groveslibrary.org/lib-cal/noon-years-eve-countdown/2026-12
 -31
END:VEVENT
BEGIN:VTIMEZONE
TZID:US/Central
X-LIC-LOCATION:US/Central
BEGIN:STANDARD
DTSTART:20261101T010000
TZNAME:CST
TZOFFSETFROM:-0500
TZOFFSETTO:-0600
END:STANDARD
END:VTIMEZONE
END:VCALENDAR
