BEGIN:VCALENDAR
VERSION:2.0
PRODID:-//Plone.org//NONSGML plone.app.event//EN
X-WR-TIMEZONE:US/Central
BEGIN:VEVENT
SUMMARY:Mini Golf in the Library
DTSTART;TZID=US/Central:20250714T140000
DTEND;TZID=US/Central:20250714T170000
DTSTAMP:20260424T061811Z
UID:5c1dde8e8e324376899730e191c44b33@saas_stack_varnish:6080
CONTACT:Mrs. Jackie\, 409-962-6281\, groveslibrary5600@gmail.com
CREATED:20250523T182628Z
DESCRIPTION:Free fun for the whole family! All ages welcome to participate
 .
LAST-MODIFIED:20250523T182903Z
LOCATION:Library Meeting Room
URL:https://www.groveslibrary.org/lib-cal/mini-gulf-in-the-library
END:VEVENT
BEGIN:VTIMEZONE
TZID:US/Central
X-LIC-LOCATION:US/Central
BEGIN:DAYLIGHT
DTSTART:20250309T030000
TZNAME:CDT
TZOFFSETFROM:-0600
TZOFFSETTO:-0500
END:DAYLIGHT
END:VTIMEZONE
END:VCALENDAR
