BEGIN:VCALENDAR
VERSION:2.0
PRODID:-//Plone.org//NONSGML plone.app.event//EN
X-WR-TIMEZONE:US/Central
BEGIN:VEVENT
SUMMARY:Mini Golf in the Library
DTSTART;TZID=US/Central:20250715T120000
DTEND;TZID=US/Central:20250715T193000
DTSTAMP:20260424T013244Z
UID:5af5eb4e66b64c3fb0b362978f22c7e5@saas_stack_varnish:6080
CONTACT:Mrs. Jackie\, 409-962-6281\, groveslibrary5600@gmail.com
CREATED:20250523T182813Z
DESCRIPTION:Free fun for the whole family! All ages welcome to participate
 .
LAST-MODIFIED:20250523T182821Z
LOCATION:Library Meeting Room
URL:https://www.groveslibrary.org/lib-cal/mini-golf-in-the-library
END:VEVENT
BEGIN:VTIMEZONE
TZID:US/Central
X-LIC-LOCATION:US/Central
BEGIN:DAYLIGHT
DTSTART:20250309T030000
TZNAME:CDT
TZOFFSETFROM:-0600
TZOFFSETTO:-0500
END:DAYLIGHT
END:VTIMEZONE
END:VCALENDAR
