BEGIN:VCALENDAR
VERSION:2.0
PRODID:-//Plone.org//NONSGML plone.app.event//EN
X-WR-TIMEZONE:US/Central
BEGIN:VEVENT
SUMMARY:Local Author Book Signing  - Firma de Libros\, Conoce a la autora
DTSTART;TZID=US/Central:20260131T110000
DTEND;TZID=US/Central:20260131T143000
DTSTAMP:20260423T122228Z
UID:62e0dbf3a8934430ae6c6bcd5e9c451b@saas_stack_varnish:6080
CONTACT:Library Staff\, 409-962-6281\, groveslibrary5600@gmail.com\, https
 ://www.facebook.com/share/1PjAExrkVD/
CREATED:20260122T162821Z
LAST-MODIFIED:20260122T164942Z
LOCATION:Library Meeting Room
URL:https://www.groveslibrary.org/lib-cal/local-author-book-signing-firma-
 de-libros-conoce-a-la-autora
END:VEVENT
BEGIN:VTIMEZONE
TZID:US/Central
X-LIC-LOCATION:US/Central
BEGIN:STANDARD
DTSTART:20251102T010000
TZNAME:CST
TZOFFSETFROM:-0500
TZOFFSETTO:-0600
END:STANDARD
END:VTIMEZONE
END:VCALENDAR
