BEGIN:VCALENDAR
VERSION:2.0
PRODID:-//Plone.org//NONSGML plone.app.event//EN
X-WR-TIMEZONE:US/Central
BEGIN:VEVENT
SUMMARY:Local Author Book Signing  - Firma de Libros\, Conoce a la autora
DTSTART;TZID=US/Central:20260203T170000
DTEND;TZID=US/Central:20260203T193000
DTSTAMP:20260423T124836Z
UID:ec613ce1e9d54a4c87abaf696b7bb0c0@saas_stack_varnish:6080
CONTACT:Library Staff\, 409-962-6281\, groveslibrary5600@gmail.com\, https
 ://www.facebook.com/share/17m9SpCbmZ/
CREATED:20260122T163402Z
LAST-MODIFIED:20260122T165043Z
LOCATION:Library Meeting Room
URL:https://www.groveslibrary.org/lib-cal/local-author-book-signing-firma-
 de-libros-conoce-a-la-autora-1
END:VEVENT
BEGIN:VTIMEZONE
TZID:US/Central
X-LIC-LOCATION:US/Central
BEGIN:STANDARD
DTSTART:20251102T010000
TZNAME:CST
TZOFFSETFROM:-0500
TZOFFSETTO:-0600
END:STANDARD
END:VTIMEZONE
END:VCALENDAR
