BEGIN:VCALENDAR
VERSION:2.0
PRODID:-//Plone.org//NONSGML plone.app.event//EN
X-WR-TIMEZONE:US/Central
BEGIN:VEVENT
SUMMARY:LIBRARY CLOSED FOR THANKSGIVING
DTSTART;VALUE=DATE:20241128
DTEND;VALUE=DATE:20241201
DTSTAMP:20260424T012100Z
UID:86b8b2d0657044a99bd6064962567350@saas_stack_varnish:6080
CONTACT:Library Staff\, 409-962-6281\, groveslibrary5600@gmail.com
CREATED:20240914T194831Z
DESCRIPTION:We will be closed November 28-30. Our doors will open again Mo
 nday\, December 2\, at 8:30 AM. Have a wonderful Thanksgiving!
LAST-MODIFIED:20240914T194914Z
URL:https://www.groveslibrary.org/lib-cal/library-closed-for-thanksgiving
END:VEVENT
END:VCALENDAR
