BEGIN:VCALENDAR
VERSION:2.0
PRODID:-//Plone.org//NONSGML plone.app.event//EN
X-WR-TIMEZONE:US/Central
BEGIN:VEVENT
SUMMARY:Learn and Grow: Texas Energy Museum
DTSTART;TZID=US/Central:20250703T140000
DTEND;TZID=US/Central:20250703T150000
DTSTAMP:20260424T002847Z
UID:de6a8c9ea3974bd18c563206e3b57b06@saas_stack_varnish:6080
CONTACT:Mrs. Jackie\, 409-962-6281\, groveslibrary5600@gmail.com
CREATED:20250523T162726Z
DESCRIPTION:Every Thursday we have a local organization coming to put on a
  fun\, entertaining\, and educational event for our community! For all age
 s.
LAST-MODIFIED:20250523T162733Z
LOCATION:Library Meeting Room
URL:https://www.groveslibrary.org/lib-cal/learn-and-grow-texas-energy-muse
 um
END:VEVENT
BEGIN:VTIMEZONE
TZID:US/Central
X-LIC-LOCATION:US/Central
BEGIN:DAYLIGHT
DTSTART:20250309T030000
TZNAME:CDT
TZOFFSETFROM:-0600
TZOFFSETTO:-0500
END:DAYLIGHT
END:VTIMEZONE
END:VCALENDAR
