BEGIN:VCALENDAR
VERSION:2.0
PRODID:-//Plone.org//NONSGML plone.app.event//EN
X-WR-TIMEZONE:US/Central
BEGIN:VEVENT
SUMMARY:Learn and Grow: Jocelyn Nungaray National Wildlife Refuge
DTSTART;TZID=US/Central:20250710T140000
DTEND;TZID=US/Central:20250710T150000
DTSTAMP:20260424T050301Z
UID:348cd3ba929e4826986c857c18bd9c39@saas_stack_varnish:6080
CONTACT:Mrs. Jackie\, 409-962-6281\, groveslibrary5600@gmail.com
CREATED:20250523T162924Z
DESCRIPTION:Every Thursday we have a local organization coming to put on a
  fun\, entertaining\, and educational event for our community! For all age
 s.
LAST-MODIFIED:20250523T162931Z
LOCATION:Library Meeting Room
URL:https://www.groveslibrary.org/lib-cal/learn-and-grow-jocelyn-nungaray-
 national-wildlife-refuge
END:VEVENT
BEGIN:VTIMEZONE
TZID:US/Central
X-LIC-LOCATION:US/Central
BEGIN:DAYLIGHT
DTSTART:20250309T030000
TZNAME:CDT
TZOFFSETFROM:-0600
TZOFFSETTO:-0500
END:DAYLIGHT
END:VTIMEZONE
END:VCALENDAR
