BEGIN:VCALENDAR
VERSION:2.0
PRODID:-//Plone.org//NONSGML plone.app.event//EN
X-WR-TIMEZONE:US/Central
BEGIN:VEVENT
SUMMARY:Learn and Grow: Art Museum of SETX
DTSTART;TZID=US/Central:20250619T140000
DTEND;TZID=US/Central:20250619T150000
DTSTAMP:20260424T050226Z
UID:9b0212e8bd4f44c6b40f4bc430370461@saas_stack_varnish:6080
CONTACT:Mrs. Jackie\, 409-962-6281\, groveslibrary5600@gmail.com
CREATED:20250523T162425Z
DESCRIPTION:Every Thursday we have a local organization coming to put on a
  fun\, entertaining\, and educational event for our community! \nFor all a
 ges.
LAST-MODIFIED:20250523T162449Z
LOCATION:Library Meeting Room
URL:https://www.groveslibrary.org/lib-cal/learn-and-grow-art-museum-of-set
 x
END:VEVENT
BEGIN:VTIMEZONE
TZID:US/Central
X-LIC-LOCATION:US/Central
BEGIN:DAYLIGHT
DTSTART:20250309T030000
TZNAME:CDT
TZOFFSETFROM:-0600
TZOFFSETTO:-0500
END:DAYLIGHT
END:VTIMEZONE
END:VCALENDAR
