BEGIN:VCALENDAR
VERSION:2.0
PRODID:-//Plone.org//NONSGML plone.app.event//EN
X-WR-TIMEZONE:US/Central
BEGIN:VEVENT
SUMMARY:East Texas & Gulf Club
DTSTART;TZID=US/Central:20200211T183000
DTEND;TZID=US/Central:20200211T200000
DTSTAMP:20260424T003002Z
UID:ca4baaf5ca9241849270619a09d86607@saas_stack_varnish:6080
RRULE:FREQ=WEEKLY;COUNT=3;BYDAY=TU
EXDATE;TZID=US/Central:20200218T000000
CONTACT:Keilah Baaheth\, 4099626281\, groveslibrary5600@gmail.com
CREATED:20200127T165838Z
DESCRIPTION:This group meets twice a month and also specializes in display
 ing train models. Open for anyone to join.
LAST-MODIFIED:20200127T165843Z
URL:https://www.groveslibrary.org/lib-cal/east-texas-gulf-club-1
END:VEVENT
BEGIN:VTIMEZONE
TZID:US/Central
X-LIC-LOCATION:US/Central
BEGIN:STANDARD
DTSTART:20191103T010000
TZNAME:CST
TZOFFSETFROM:-0500
TZOFFSETTO:-0600
END:STANDARD
END:VTIMEZONE
END:VCALENDAR
