BEGIN:VCALENDAR
VERSION:2.0
PRODID:-//Plone.org//NONSGML plone.app.event//EN
X-WR-TIMEZONE:US/Central
BEGIN:VEVENT
SUMMARY:Chat & Chew Book Club
DTSTART;TZID=US/Central:20250826T180000
DTEND;TZID=US/Central:20250826T193000
DTSTAMP:20260424T012050Z
UID:bbe438a930724a01a4c8324f0ee9832f@saas_stack_varnish:6080
CONTACT:Keilah Baaheth\, 409-962-6281\, kbaaheth@cigrovestx.com\, https://
 www.facebook.com/events/871979688200674
CREATED:20250407T191404Z
DESCRIPTION:Meets the last Tuesday of every month\, unless it lands on a h
 oliday.
LAST-MODIFIED:20250407T191410Z
LOCATION:Library
URL:https://www.groveslibrary.org/lib-cal/chat-chew-book-club-5
END:VEVENT
BEGIN:VTIMEZONE
TZID:US/Central
X-LIC-LOCATION:US/Central
BEGIN:DAYLIGHT
DTSTART:20250309T030000
TZNAME:CDT
TZOFFSETFROM:-0600
TZOFFSETTO:-0500
END:DAYLIGHT
END:VTIMEZONE
END:VCALENDAR
