BEGIN:VCALENDAR
VERSION:2.0
PRODID:-//Plone.org//NONSGML plone.app.event//EN
X-WR-TIMEZONE:US/Central
BEGIN:VEVENT
SUMMARY:Chat & Chew Book Club
DTSTART;TZID=US/Central:20250624T180000
DTEND;TZID=US/Central:20250624T193000
DTSTAMP:20260424T011744Z
UID:46db3d5408e6488eb4beaefae73fb6bf@saas_stack_varnish:6080
CONTACT:Keilah Baaheth\, 409-962-6281\, kbaaheth@cigrovestx.com\, https://
 www.facebook.com/events/951530856910384
CREATED:20250407T190913Z
DESCRIPTION:Meets the last Tuesday of the month\, unless it lands on a hol
 iday.
LAST-MODIFIED:20250407T190920Z
LOCATION:Library
URL:https://www.groveslibrary.org/lib-cal/chat-chew-book-club-3
END:VEVENT
BEGIN:VTIMEZONE
TZID:US/Central
X-LIC-LOCATION:US/Central
BEGIN:DAYLIGHT
DTSTART:20250309T030000
TZNAME:CDT
TZOFFSETFROM:-0600
TZOFFSETTO:-0500
END:DAYLIGHT
END:VTIMEZONE
END:VCALENDAR
