BEGIN:VCALENDAR
VERSION:2.0
PRODID:-//Plone.org//NONSGML plone.app.event//EN
X-WR-TIMEZONE:US/Central
BEGIN:VEVENT
SUMMARY:Beginner Crochet Class
DTSTART;TZID=US/Central:20260428T180000
DTEND;TZID=US/Central:20260428T193000
DTSTAMP:20260421T102550Z
UID:db175964ee3e49b69c5342e461731ea1@saas_stack_varnish:6080
CONTACT:Library Staff\, 409-962-6281\, groveslibrary5600@gmail.com\, https
 ://www.facebook.com/events/984284084281995/984284094281994?acontext=%7B%22
 event_action_history%22%3A[%7B%22extra_data%22%3A%22%22%2C%22mechanism%22%
 3A%22surface%22%2C%22surface%22%3A%22permalink%22%7D%2C%7B%22extra_data%22
 %3A%22%22%2C%22mechanism%22%3A%22surface%22%2C%22surface%22%3A%22permalink
 %22%7D]%2C%22ref_notif_type%22%3Anull%7D
CREATED:20260420T200534Z
DESCRIPTION:2-Part Workshop
LAST-MODIFIED:20260420T200642Z
LOCATION:Library Meeting Room
URL:https://www.groveslibrary.org/lib-cal/beginner-crochet-class-1
END:VEVENT
BEGIN:VTIMEZONE
TZID:US/Central
X-LIC-LOCATION:US/Central
BEGIN:DAYLIGHT
DTSTART:20260308T030000
TZNAME:CDT
TZOFFSETFROM:-0600
TZOFFSETTO:-0500
END:DAYLIGHT
END:VTIMEZONE
END:VCALENDAR
